BEGIN:VCALENDAR
VERSION:2.0
PRODID:-//Glasgow Jewish - ECPv6.2.4//NONSGML v1.0//EN
CALSCALE:GREGORIAN
METHOD:PUBLISH
X-WR-CALNAME:Glasgow Jewish
X-ORIGINAL-URL:https://www.jewishglasgow.org
X-WR-CALDESC:Events for Glasgow Jewish
REFRESH-INTERVAL;VALUE=DURATION:PT1H
X-Robots-Tag:noindex
X-PUBLISHED-TTL:PT1H
BEGIN:VTIMEZONE
TZID:Europe/London
BEGIN:DAYLIGHT
TZOFFSETFROM:+0000
TZOFFSETTO:+0100
TZNAME:BST
DTSTART:20170326T010000
END:DAYLIGHT
BEGIN:STANDARD
TZOFFSETFROM:+0100
TZOFFSETTO:+0000
TZNAME:GMT
DTSTART:20171029T010000
END:STANDARD
BEGIN:DAYLIGHT
TZOFFSETFROM:+0000
TZOFFSETTO:+0100
TZNAME:BST
DTSTART:20180325T010000
END:DAYLIGHT
BEGIN:STANDARD
TZOFFSETFROM:+0100
TZOFFSETTO:+0000
TZNAME:GMT
DTSTART:20181028T010000
END:STANDARD
BEGIN:DAYLIGHT
TZOFFSETFROM:+0000
TZOFFSETTO:+0100
TZNAME:BST
DTSTART:20190331T010000
END:DAYLIGHT
BEGIN:STANDARD
TZOFFSETFROM:+0100
TZOFFSETTO:+0000
TZNAME:GMT
DTSTART:20191027T010000
END:STANDARD
BEGIN:DAYLIGHT
TZOFFSETFROM:+0000
TZOFFSETTO:+0100
TZNAME:BST
DTSTART:20200329T010000
END:DAYLIGHT
BEGIN:STANDARD
TZOFFSETFROM:+0100
TZOFFSETTO:+0000
TZNAME:GMT
DTSTART:20201025T010000
END:STANDARD
BEGIN:DAYLIGHT
TZOFFSETFROM:+0000
TZOFFSETTO:+0100
TZNAME:BST
DTSTART:20210328T010000
END:DAYLIGHT
BEGIN:STANDARD
TZOFFSETFROM:+0100
TZOFFSETTO:+0000
TZNAME:GMT
DTSTART:20211031T010000
END:STANDARD
BEGIN:DAYLIGHT
TZOFFSETFROM:+0000
TZOFFSETTO:+0100
TZNAME:BST
DTSTART:20220327T010000
END:DAYLIGHT
BEGIN:STANDARD
TZOFFSETFROM:+0100
TZOFFSETTO:+0000
TZNAME:GMT
DTSTART:20221030T010000
END:STANDARD
END:VTIMEZONE
BEGIN:VEVENT
DTSTART;VALUE=DATE:20220904
DTEND;VALUE=DATE:20220905
DTSTAMP:20260425T181619
CREATED:20220823T141951Z
LAST-MODIFIED:20220823T142854Z
UID:10009835-1662249600-1662335999@www.jewishglasgow.org
SUMMARY:One Big Picnic - One Big Community - 12.30pm - 3pm
DESCRIPTION:Find out more – www.tinyurl.com/obp22     \nkatie.sproull@interfaithglasgow.org or phone 07503 566 882
URL:https://www.jewishglasgow.org/event/one-big-picnic-one-big-community-12-30pm-3pm/
LOCATION:George Square\, Glasgow\, G2
CATEGORIES:Other Events
GEO:55.8636201;-4.2612065
END:VEVENT
BEGIN:VEVENT
DTSTART;TZID=Europe/London:20170903T120000
DTEND;TZID=Europe/London:20170903T160000
DTSTAMP:20260425T181619
CREATED:20170828T123750Z
LAST-MODIFIED:20170828T124439Z
UID:10005749-1504440000-1504454400@www.jewishglasgow.org
SUMMARY:One Big Picnic
DESCRIPTION:This is a free event open to the general public for the people by the people. The aim of the event is to bring people together by creating a space for sharing food and a wee blether\, sitting next to each other\, showing understanding to differences regardless of background\, cultural\, religious\, sexual orientation\, social or educational status\, homelessness or wealth. Highlighting Glasgow is indeed a city of caring people – people make Glasgow! \nThe One Big Picnic One Big Community has not been funded through any programme and has been organised by a group of local people with support through local community-led projects to highlight people indeed do make Glasgow a great place… \nNB:  Some food will be provided (NOT Kosher). \nYou can make a donation to support this event at: https://www.crowdfunder.co.uk/one-big-picnic \n  \n 
URL:https://www.jewishglasgow.org/event/9734/
LOCATION:George Square\, Glasgow\, G2
CATEGORIES:Other Events
GEO:55.8636201;-4.2612065
END:VEVENT
END:VCALENDAR