BEGIN:VCALENDAR
VERSION:2.0
PRODID:-//Glasgow Jewish - ECPv6.2.4//NONSGML v1.0//EN
CALSCALE:GREGORIAN
METHOD:PUBLISH
X-WR-CALNAME:Glasgow Jewish
X-ORIGINAL-URL:https://www.jewishglasgow.org
X-WR-CALDESC:Events for Glasgow Jewish
REFRESH-INTERVAL;VALUE=DURATION:PT1H
X-Robots-Tag:noindex
X-PUBLISHED-TTL:PT1H
BEGIN:VTIMEZONE
TZID:Europe/London
BEGIN:DAYLIGHT
TZOFFSETFROM:+0000
TZOFFSETTO:+0100
TZNAME:BST
DTSTART:20230326T010000
END:DAYLIGHT
BEGIN:STANDARD
TZOFFSETFROM:+0100
TZOFFSETTO:+0000
TZNAME:GMT
DTSTART:20231029T010000
END:STANDARD
END:VTIMEZONE
BEGIN:VEVENT
DTSTART;VALUE=DATE:20230822
DTEND;VALUE=DATE:20230823
DTSTAMP:20260422T032034
CREATED:20210913T110204Z
LAST-MODIFIED:20210913T110204Z
UID:10007061-1692662400-1692748799@www.jewishglasgow.org
SUMMARY:Maccabi Junior Badminton - Advanced (12+) - 6pm - 7pm
DESCRIPTION:
URL:https://www.jewishglasgow.org/event/maccabi-junior-badminton-advanced-12-6pm-7pm/2023-08-22/
LOCATION:Glasgow Maccabi\, May Terrace\, Giffnock\, Glasgow\, g46 6ld\, United Kingdom
CATEGORIES:Regular meetings
GEO:55.8044033;-4.2924659
X-APPLE-STRUCTURED-LOCATION;VALUE=URI;X-ADDRESS=Glasgow Maccabi May Terrace Giffnock Glasgow g46 6ld United Kingdom;X-APPLE-RADIUS=500;X-TITLE=May Terrace\, Giffnock:geo:-4.2924659,55.8044033
END:VEVENT
BEGIN:VEVENT
DTSTART;VALUE=DATE:20230822
DTEND;VALUE=DATE:20230823
DTSTAMP:20260422T032034
CREATED:20210913T105622Z
LAST-MODIFIED:20210913T105622Z
UID:10006884-1692662400-1692748799@www.jewishglasgow.org
SUMMARY:Maccabi Junior Badminton - Intermediate (10+)
DESCRIPTION:
URL:https://www.jewishglasgow.org/event/maccabi-junior-badminton-intermediate-10/2023-08-22/
LOCATION:Glasgow Maccabi\, May Terrace\, Giffnock\, Glasgow\, g46 6ld\, United Kingdom
CATEGORIES:Regular meetings
GEO:55.8044033;-4.2924659
X-APPLE-STRUCTURED-LOCATION;VALUE=URI;X-ADDRESS=Glasgow Maccabi May Terrace Giffnock Glasgow g46 6ld United Kingdom;X-APPLE-RADIUS=500;X-TITLE=May Terrace\, Giffnock:geo:-4.2924659,55.8044033
END:VEVENT
BEGIN:VEVENT
DTSTART;TZID=Europe/London:20230821T183000
DTEND;TZID=Europe/London:20230821T203000
DTSTAMP:20260422T032034
CREATED:20151126T223938Z
LAST-MODIFIED:20220626T170843Z
UID:10005369-1692642600-1692649800@www.jewishglasgow.org
SUMMARY:5th Giffnock Guides
DESCRIPTION:5th Giffnock Rainbows\, Brownies and Guides \nContact Evy Yedd on 0141 638 0040 or email evy_yedd@hotmail.com
URL:https://www.jewishglasgow.org/event/5th-giffnock-guides/2023-08-21/
CATEGORIES:Regular meetings
END:VEVENT
BEGIN:VEVENT
DTSTART;TZID=Europe/London:20230820T113000
DTEND;TZID=Europe/London:20230820T133000
DTSTAMP:20260422T032034
CREATED:20210923T160841Z
LAST-MODIFIED:20210923T161243Z
UID:10009353-1692531000-1692538200@www.jewishglasgow.org
SUMMARY:Maccabi Pickleball for Adults - 11.30am - 1.30pm
DESCRIPTION:NEW CLUB AT MACCABI\nPickleball is the fastest growing sport in America and it’s here! \nJust come along – all welcome
URL:https://www.jewishglasgow.org/event/maccabi-pickleball-for-adults-11-30am-1-30pm/2023-08-20/
LOCATION:Glasgow Maccabi\, May Terrace\, Giffnock\, Glasgow\, g46 6ld\, United Kingdom
CATEGORIES:Regular meetings
GEO:55.8044033;-4.2924659
X-APPLE-STRUCTURED-LOCATION;VALUE=URI;X-ADDRESS=Glasgow Maccabi May Terrace Giffnock Glasgow g46 6ld United Kingdom;X-APPLE-RADIUS=500;X-TITLE=May Terrace\, Giffnock:geo:-4.2924659,55.8044033
END:VEVENT
BEGIN:VEVENT
DTSTART;VALUE=DATE:20230820
DTEND;VALUE=DATE:20230821
DTSTAMP:20260422T032034
CREATED:20230810T110134Z
LAST-MODIFIED:20230810T110134Z
UID:10010146-1692489600-1692575999@www.jewishglasgow.org
SUMMARY:Scottish Jewish Archives Centre Open Day - 2pm - 4pm
DESCRIPTION:Scottish Jewish Archives Centre Open Day\nBooking is free but essential – please click on this link to book. \nhttps://www.trybooking.co.uk/CMGY\nThe Archives Centre will be open between 2pm and 4pm. Entry will be via 29 Garnet Street.
URL:https://www.jewishglasgow.org/event/scottish-jewish-archives-centre-open-day-2pm-4pm-3/
LOCATION:Scottish Jewish Archives Centre\, 129 Hill Street\, Glasgow\, United Kingdom
CATEGORIES:Other Events
ORGANIZER;CN="Scottish Jewish Archives Centre":MAILTO:info@sjac.org.uk
GEO:55.8674387;-4.2676617
X-APPLE-STRUCTURED-LOCATION;VALUE=URI;X-ADDRESS=Scottish Jewish Archives Centre 129 Hill Street Glasgow United Kingdom;X-APPLE-RADIUS=500;X-TITLE=129 Hill Street:geo:-4.2676617,55.8674387
END:VEVENT
BEGIN:VEVENT
DTSTART;TZID=Europe/London:20230817T183000
DTEND;TZID=Europe/London:20230817T200000
DTSTAMP:20260422T032034
CREATED:20230206T213905Z
LAST-MODIFIED:20230206T213905Z
UID:10010025-1692297000-1692302400@www.jewishglasgow.org
SUMMARY:JLGB Weekly Meeting - 6.30pm
DESCRIPTION:
URL:https://www.jewishglasgow.org/event/jlgb-weekly-meeting-6-30pm-10/2023-08-17/
LOCATION:Giffnock Newton MearnsSynagogue\, 222 Fenwick Road\, Giffnock\, Glasgow\, G46 6UE\, United Kingdom
CATEGORIES:Regular meetings
ORGANIZER;CN="JLGB":MAILTO:glasgow@jlgb.org
GEO:55.7999177;-4.2957932
X-APPLE-STRUCTURED-LOCATION;VALUE=URI;X-ADDRESS=Giffnock Newton MearnsSynagogue 222 Fenwick Road Giffnock Glasgow G46 6UE United Kingdom;X-APPLE-RADIUS=500;X-TITLE=222 Fenwick Road\, Giffnock:geo:-4.2957932,55.7999177
END:VEVENT
BEGIN:VEVENT
DTSTART;TZID=Europe/London:20230817T180000
DTEND;TZID=Europe/London:20230817T190000
DTSTAMP:20260422T032034
CREATED:20210913T114759Z
LAST-MODIFIED:20210913T114759Z
UID:10008650-1692295200-1692298800@www.jewishglasgow.org
SUMMARY:Maccabi Junior Badminton - Advanced (12+) - 6pm - 7pm
DESCRIPTION:
URL:https://www.jewishglasgow.org/event/maccabi-junior-badminton-advanced-12-6pm-7pm-2/2023-08-17/
LOCATION:Glasgow Maccabi\, May Terrace\, Giffnock\, Glasgow\, g46 6ld\, United Kingdom
CATEGORIES:Regular meetings
GEO:55.8044033;-4.2924659
X-APPLE-STRUCTURED-LOCATION;VALUE=URI;X-ADDRESS=Glasgow Maccabi May Terrace Giffnock Glasgow g46 6ld United Kingdom;X-APPLE-RADIUS=500;X-TITLE=May Terrace\, Giffnock:geo:-4.2924659,55.8044033
END:VEVENT
BEGIN:VEVENT
DTSTART;TZID=Europe/London:20230817T170000
DTEND;TZID=Europe/London:20230817T180000
DTSTAMP:20260422T032034
CREATED:20210913T114456Z
LAST-MODIFIED:20210913T114456Z
UID:10008297-1692291600-1692295200@www.jewishglasgow.org
SUMMARY:Maccabi Junior Badminton - Intermediate (10+) - 5pm - 6pm
DESCRIPTION:
URL:https://www.jewishglasgow.org/event/maccabi-junior-badminton-intermediate-10-5pm-6pm/2023-08-17/
LOCATION:Glasgow Maccabi\, May Terrace\, Giffnock\, Glasgow\, g46 6ld\, United Kingdom
CATEGORIES:Regular meetings
GEO:55.8044033;-4.2924659
X-APPLE-STRUCTURED-LOCATION;VALUE=URI;X-ADDRESS=Glasgow Maccabi May Terrace Giffnock Glasgow g46 6ld United Kingdom;X-APPLE-RADIUS=500;X-TITLE=May Terrace\, Giffnock:geo:-4.2924659,55.8044033
END:VEVENT
BEGIN:VEVENT
DTSTART;TZID=Europe/London:20230817T160000
DTEND;TZID=Europe/London:20230817T170000
DTSTAMP:20260422T032034
CREATED:20210913T114137Z
LAST-MODIFIED:20210913T114137Z
UID:10008120-1692288000-1692291600@www.jewishglasgow.org
SUMMARY:Maccabi Junior Badminton - Beginners (7+) - 4pm - 5pm
DESCRIPTION:
URL:https://www.jewishglasgow.org/event/maccabi-junior-badminton-beginners-7-4pm-5pm-2/2023-08-17/
LOCATION:Glasgow Maccabi\, May Terrace\, Giffnock\, Glasgow\, g46 6ld\, United Kingdom
CATEGORIES:Regular meetings
GEO:55.8044033;-4.2924659
X-APPLE-STRUCTURED-LOCATION;VALUE=URI;X-ADDRESS=Glasgow Maccabi May Terrace Giffnock Glasgow g46 6ld United Kingdom;X-APPLE-RADIUS=500;X-TITLE=May Terrace\, Giffnock:geo:-4.2924659,55.8044033
END:VEVENT
BEGIN:VEVENT
DTSTART;TZID=Europe/London:20230817T093000
DTEND;TZID=Europe/London:20230817T113000
DTSTAMP:20260422T032034
CREATED:20220829T203557Z
LAST-MODIFIED:20220829T203557Z
UID:10009890-1692264600-1692271800@www.jewishglasgow.org
SUMMARY:Glasgow Toddlers Group - 9.30am - 11.30am
DESCRIPTION:The Glasgow Toddlers Group \nFor children 0 to 5 years and their grown ups. \nThe cost is £1 per child and refreshments are provided. \nFor more information\, contact laura.mcfarlane@ujia.org.
URL:https://www.jewishglasgow.org/event/glasgow-toddlers-group-9-30am-11-30am/2023-08-17/
LOCATION:Giffnock Newton MearnsSynagogue\, 222 Fenwick Road\, Giffnock\, Glasgow\, G46 6UE\, United Kingdom
CATEGORIES:Regular meetings
GEO:55.7999177;-4.2957932
X-APPLE-STRUCTURED-LOCATION;VALUE=URI;X-ADDRESS=Giffnock Newton MearnsSynagogue 222 Fenwick Road Giffnock Glasgow G46 6UE United Kingdom;X-APPLE-RADIUS=500;X-TITLE=222 Fenwick Road\, Giffnock:geo:-4.2957932,55.7999177
END:VEVENT
BEGIN:VEVENT
DTSTART;TZID=Europe/London:20230816T120000
DTEND;TZID=Europe/London:20230816T150000
DTSTAMP:20260422T032034
CREATED:20210915T113641Z
LAST-MODIFIED:20211212T172113Z
UID:10009001-1692187200-1692198000@www.jewishglasgow.org
SUMMARY:Jewish Care Scotland - Welcome Wednesday - 12 - 3pm
DESCRIPTION:JCS – WELCOME WEDNESDAY DROP-IN FOR ANYONE IN THE COMMUNITY \nRUN BY VOLUNTEERS 
URL:https://www.jewishglasgow.org/event/jewish-care-scotland-welcome-wednesday-1pm-4pm/2023-08-16/
LOCATION:Jewish Care Scotland\, May Terrace\, Giffnock\, Glasgow\, G46 6LD\, United Kingdom
CATEGORIES:Regular meetings
GEO:55.8044033;-4.2924659
X-APPLE-STRUCTURED-LOCATION;VALUE=URI;X-ADDRESS=Jewish Care Scotland May Terrace Giffnock Glasgow G46 6LD United Kingdom;X-APPLE-RADIUS=500;X-TITLE=May Terrace\, Giffnock:geo:-4.2924659,55.8044033
END:VEVENT
BEGIN:VEVENT
DTSTART;VALUE=DATE:20230816
DTEND;VALUE=DATE:20230817
DTSTAMP:20260422T032034
CREATED:20210913T112437Z
LAST-MODIFIED:20210913T112437Z
UID:10007590-1692144000-1692230399@www.jewishglasgow.org
SUMMARY:Maccabi Junior Badminton - Beginners (7+) - 5pm - 6pm
DESCRIPTION:
URL:https://www.jewishglasgow.org/event/maccabi-junior-badminton-beginners-7-5pm-6pm/2023-08-16/
LOCATION:Glasgow Maccabi\, May Terrace\, Giffnock\, Glasgow\, g46 6ld\, United Kingdom
CATEGORIES:Regular meetings
GEO:55.8044033;-4.2924659
X-APPLE-STRUCTURED-LOCATION;VALUE=URI;X-ADDRESS=Glasgow Maccabi May Terrace Giffnock Glasgow g46 6ld United Kingdom;X-APPLE-RADIUS=500;X-TITLE=May Terrace\, Giffnock:geo:-4.2924659,55.8044033
END:VEVENT
BEGIN:VEVENT
DTSTART;VALUE=DATE:20230816
DTEND;VALUE=DATE:20230817
DTSTAMP:20260422T032034
CREATED:20210913T112146Z
LAST-MODIFIED:20210913T112146Z
UID:10007413-1692144000-1692230399@www.jewishglasgow.org
SUMMARY:Maccabi Junior Badminton - Beginners (7+) - 4pm - 5pm
DESCRIPTION:
URL:https://www.jewishglasgow.org/event/maccabi-junior-badminton-beginners-7-4pm-5pm/2023-08-16/
LOCATION:Glasgow Maccabi\, May Terrace\, Giffnock\, Glasgow\, g46 6ld\, United Kingdom
CATEGORIES:Regular meetings
GEO:55.8044033;-4.2924659
X-APPLE-STRUCTURED-LOCATION;VALUE=URI;X-ADDRESS=Glasgow Maccabi May Terrace Giffnock Glasgow g46 6ld United Kingdom;X-APPLE-RADIUS=500;X-TITLE=May Terrace\, Giffnock:geo:-4.2924659,55.8044033
END:VEVENT
BEGIN:VEVENT
DTSTART;TZID=Europe/London:20230815T193000
DTEND;TZID=Europe/London:20230815T213000
DTSTAMP:20260422T032034
CREATED:20211108T175322Z
LAST-MODIFIED:20211205T222855Z
UID:10009534-1692127800-1692135000@www.jewishglasgow.org
SUMMARY:Israeli Dancing - 7.30pm
DESCRIPTION:Israeli Dancing takes place every Tuesday night at 7.30pm in the Glasgow Reform Synagogue \nIt is open to people of all ages and ability and provides the chance for an enjoyable way to keep fit\, learn new Israeli dances and revisit familiar ones from the past. \nThe instructor is Shosh Greenberg. \nAll welcome. \nFor more information\, contact Noga Gibb on 07787 928 455 or noga1445@hotmail.com.
URL:https://www.jewishglasgow.org/event/israeli-dancing-7-30pm/2023-08-15/
LOCATION:Glasgow Reform Synagogue\, 147 Ayr Road\, Glasgow\, G77 6RE\, United Kingdom
CATEGORIES:Regular meetings
GEO:55.7734753;-4.329867
X-APPLE-STRUCTURED-LOCATION;VALUE=URI;X-ADDRESS=Glasgow Reform Synagogue 147 Ayr Road Glasgow G77 6RE United Kingdom;X-APPLE-RADIUS=500;X-TITLE=147 Ayr Road:geo:-4.329867,55.7734753
END:VEVENT
BEGIN:VEVENT
DTSTART;TZID=Europe/London:20230815T134500
DTEND;TZID=Europe/London:20230815T154500
DTSTAMP:20260422T032034
CREATED:20211205T222653Z
LAST-MODIFIED:20211205T222653Z
UID:10009704-1692107100-1692114300@www.jewishglasgow.org
SUMMARY:The Friendship Club - 1.45pm - 3.45pm
DESCRIPTION:The Friendship Club\nIn the Reception Area \n  \nFor more information\, phone  0141 577 8250
URL:https://www.jewishglasgow.org/event/the-friendship-club-1-45pm-3-45pm/2023-08-15/
LOCATION:Giffnock Newton MearnsSynagogue\, 222 Fenwick Road\, Giffnock\, Glasgow\, G46 6UE\, United Kingdom
CATEGORIES:Regular meetings
ORGANIZER;CN="Giffnock Newton Mearns Hebrew Congregation":MAILTO:admin@giffnockshul.co.uk
GEO:55.7999177;-4.2957932
X-APPLE-STRUCTURED-LOCATION;VALUE=URI;X-ADDRESS=Giffnock Newton MearnsSynagogue 222 Fenwick Road Giffnock Glasgow G46 6UE United Kingdom;X-APPLE-RADIUS=500;X-TITLE=222 Fenwick Road\, Giffnock:geo:-4.2957932,55.7999177
END:VEVENT
BEGIN:VEVENT
DTSTART;TZID=Europe/London:20230815T080000
DTEND;TZID=Europe/London:20230815T170000
DTSTAMP:20260422T032034
CREATED:20211029T110907Z
LAST-MODIFIED:20211029T110907Z
UID:10006134-1692086400-1692118800@www.jewishglasgow.org
SUMMARY:Netherlee and Clarkston Table Tennis Club - 7.30pm - 9.30pm
DESCRIPTION:Netherlee and Clarkston Table Tennis Club is back at Giffnock Shul. \nEveryone is Welcome. \nContact Derek Tobias\nTel: 07973 862427 \nEmail: members@n-c-t-t.club \nPlease note masks must be worn
URL:https://www.jewishglasgow.org/event/netherlee-and-clarkston-table-tennis-club-7-30pm-9-30pm/2023-08-15/
LOCATION:Giffnock Newton MearnsSynagogue\, 222 Fenwick Road\, Giffnock\, Glasgow\, G46 6UE\, United Kingdom
CATEGORIES:Regular meetings
GEO:55.7999177;-4.2957932
X-APPLE-STRUCTURED-LOCATION;VALUE=URI;X-ADDRESS=Giffnock Newton MearnsSynagogue 222 Fenwick Road Giffnock Glasgow G46 6UE United Kingdom;X-APPLE-RADIUS=500;X-TITLE=222 Fenwick Road\, Giffnock:geo:-4.2957932,55.7999177
END:VEVENT
BEGIN:VEVENT
DTSTART;VALUE=DATE:20230815
DTEND;VALUE=DATE:20230816
DTSTAMP:20260422T032034
CREATED:20210913T110204Z
LAST-MODIFIED:20210913T110204Z
UID:10007060-1692057600-1692143999@www.jewishglasgow.org
SUMMARY:Maccabi Junior Badminton - Advanced (12+) - 6pm - 7pm
DESCRIPTION:
URL:https://www.jewishglasgow.org/event/maccabi-junior-badminton-advanced-12-6pm-7pm/2023-08-15/
LOCATION:Glasgow Maccabi\, May Terrace\, Giffnock\, Glasgow\, g46 6ld\, United Kingdom
CATEGORIES:Regular meetings
GEO:55.8044033;-4.2924659
X-APPLE-STRUCTURED-LOCATION;VALUE=URI;X-ADDRESS=Glasgow Maccabi May Terrace Giffnock Glasgow g46 6ld United Kingdom;X-APPLE-RADIUS=500;X-TITLE=May Terrace\, Giffnock:geo:-4.2924659,55.8044033
END:VEVENT
BEGIN:VEVENT
DTSTART;VALUE=DATE:20230815
DTEND;VALUE=DATE:20230816
DTSTAMP:20260422T032034
CREATED:20210913T105622Z
LAST-MODIFIED:20210913T105622Z
UID:10006883-1692057600-1692143999@www.jewishglasgow.org
SUMMARY:Maccabi Junior Badminton - Intermediate (10+)
DESCRIPTION:
URL:https://www.jewishglasgow.org/event/maccabi-junior-badminton-intermediate-10/2023-08-15/
LOCATION:Glasgow Maccabi\, May Terrace\, Giffnock\, Glasgow\, g46 6ld\, United Kingdom
CATEGORIES:Regular meetings
GEO:55.8044033;-4.2924659
X-APPLE-STRUCTURED-LOCATION;VALUE=URI;X-ADDRESS=Glasgow Maccabi May Terrace Giffnock Glasgow g46 6ld United Kingdom;X-APPLE-RADIUS=500;X-TITLE=May Terrace\, Giffnock:geo:-4.2924659,55.8044033
END:VEVENT
BEGIN:VEVENT
DTSTART;TZID=Europe/London:20230814T183000
DTEND;TZID=Europe/London:20230814T203000
DTSTAMP:20260422T032034
CREATED:20151126T223938Z
LAST-MODIFIED:20220626T170843Z
UID:10005368-1692037800-1692045000@www.jewishglasgow.org
SUMMARY:5th Giffnock Guides
DESCRIPTION:5th Giffnock Rainbows\, Brownies and Guides \nContact Evy Yedd on 0141 638 0040 or email evy_yedd@hotmail.com
URL:https://www.jewishglasgow.org/event/5th-giffnock-guides/2023-08-14/
CATEGORIES:Regular meetings
END:VEVENT
BEGIN:VEVENT
DTSTART;TZID=Europe/London:20230813T113000
DTEND;TZID=Europe/London:20230813T133000
DTSTAMP:20260422T032034
CREATED:20210923T160841Z
LAST-MODIFIED:20210923T161243Z
UID:10009352-1691926200-1691933400@www.jewishglasgow.org
SUMMARY:Maccabi Pickleball for Adults - 11.30am - 1.30pm
DESCRIPTION:NEW CLUB AT MACCABI\nPickleball is the fastest growing sport in America and it’s here! \nJust come along – all welcome
URL:https://www.jewishglasgow.org/event/maccabi-pickleball-for-adults-11-30am-1-30pm/2023-08-13/
LOCATION:Glasgow Maccabi\, May Terrace\, Giffnock\, Glasgow\, g46 6ld\, United Kingdom
CATEGORIES:Regular meetings
GEO:55.8044033;-4.2924659
X-APPLE-STRUCTURED-LOCATION;VALUE=URI;X-ADDRESS=Glasgow Maccabi May Terrace Giffnock Glasgow g46 6ld United Kingdom;X-APPLE-RADIUS=500;X-TITLE=May Terrace\, Giffnock:geo:-4.2924659,55.8044033
END:VEVENT
BEGIN:VEVENT
DTSTART;VALUE=DATE:20230813
DTEND;VALUE=DATE:20230814
DTSTAMP:20260422T032034
CREATED:20230714T121204Z
LAST-MODIFIED:20230714T121204Z
UID:10010141-1691884800-1691971199@www.jewishglasgow.org
SUMMARY:Avrom Greenbaum Players discussion meeting - 1pm
DESCRIPTION:Former member turned professional entertainer Stephan Isaacs is currently conducting a master’s degree research project concerning the AGP and is keen to hear from you. \nStephan Isaacs would like to hear about your experiences and reminiscences from your time as a member\, participant\, or audience member of an AGP show at the theatre in Coplaw Street. \nRefreshments will be provided. \nPlease RSVP to mobile number 07988 519 633\, or email stephanisaacs@hotmail.com by 6th August to allow for appropriate room size to be booked. \nIf you cannot attend on this date\, but would like to share your memories\, please feel free to email or call at a time that is convenient for you.
URL:https://www.jewishglasgow.org/event/avrom-greenbaum-players-discussion-meeting-1pm/
LOCATION:Glasgow Maccabi\, May Terrace\, Giffnock\, Glasgow\, g46 6ld\, United Kingdom
CATEGORIES:Other Events
GEO:55.8044033;-4.2924659
X-APPLE-STRUCTURED-LOCATION;VALUE=URI;X-ADDRESS=Glasgow Maccabi May Terrace Giffnock Glasgow g46 6ld United Kingdom;X-APPLE-RADIUS=500;X-TITLE=May Terrace\, Giffnock:geo:-4.2924659,55.8044033
END:VEVENT
BEGIN:VEVENT
DTSTART;VALUE=DATE:20230813
DTEND;VALUE=DATE:20230814
DTSTAMP:20260422T032034
CREATED:20230614T165604Z
LAST-MODIFIED:20230629T153511Z
UID:10010137-1691884800-1691971199@www.jewishglasgow.org
SUMMARY:EHC - Edinburgh Festival Fringe Open Day - 12.30pm - 3.30pm
DESCRIPTION:Edinburgh Jewish Cultural Centre\nand\nEdinburgh Hebrew Congregation \nA celebration of all things Jewish at the Edinburgh Festival Fringe!
URL:https://www.jewishglasgow.org/event/ehc-edinburgh-festival-fringe-open-day-time-tbc/
LOCATION:Edinburgh Jewish Community Centre\, 4 Salisbury Road\, Edinburgh\, EH16 5AB\, Select a Country:
CATEGORIES:Other Events
END:VEVENT
BEGIN:VEVENT
DTSTART;TZID=Europe/London:20230810T183000
DTEND;TZID=Europe/London:20230810T200000
DTSTAMP:20260422T032034
CREATED:20230206T213905Z
LAST-MODIFIED:20230206T213905Z
UID:10010024-1691692200-1691697600@www.jewishglasgow.org
SUMMARY:JLGB Weekly Meeting - 6.30pm
DESCRIPTION:
URL:https://www.jewishglasgow.org/event/jlgb-weekly-meeting-6-30pm-10/2023-08-10/
LOCATION:Giffnock Newton MearnsSynagogue\, 222 Fenwick Road\, Giffnock\, Glasgow\, G46 6UE\, United Kingdom
CATEGORIES:Regular meetings
ORGANIZER;CN="JLGB":MAILTO:glasgow@jlgb.org
GEO:55.7999177;-4.2957932
X-APPLE-STRUCTURED-LOCATION;VALUE=URI;X-ADDRESS=Giffnock Newton MearnsSynagogue 222 Fenwick Road Giffnock Glasgow G46 6UE United Kingdom;X-APPLE-RADIUS=500;X-TITLE=222 Fenwick Road\, Giffnock:geo:-4.2957932,55.7999177
END:VEVENT
BEGIN:VEVENT
DTSTART;TZID=Europe/London:20230810T180000
DTEND;TZID=Europe/London:20230810T190000
DTSTAMP:20260422T032034
CREATED:20210913T114759Z
LAST-MODIFIED:20210913T114759Z
UID:10008649-1691690400-1691694000@www.jewishglasgow.org
SUMMARY:Maccabi Junior Badminton - Advanced (12+) - 6pm - 7pm
DESCRIPTION:
URL:https://www.jewishglasgow.org/event/maccabi-junior-badminton-advanced-12-6pm-7pm-2/2023-08-10/
LOCATION:Glasgow Maccabi\, May Terrace\, Giffnock\, Glasgow\, g46 6ld\, United Kingdom
CATEGORIES:Regular meetings
GEO:55.8044033;-4.2924659
X-APPLE-STRUCTURED-LOCATION;VALUE=URI;X-ADDRESS=Glasgow Maccabi May Terrace Giffnock Glasgow g46 6ld United Kingdom;X-APPLE-RADIUS=500;X-TITLE=May Terrace\, Giffnock:geo:-4.2924659,55.8044033
END:VEVENT
BEGIN:VEVENT
DTSTART;TZID=Europe/London:20230810T170000
DTEND;TZID=Europe/London:20230810T180000
DTSTAMP:20260422T032034
CREATED:20210913T114456Z
LAST-MODIFIED:20210913T114456Z
UID:10008296-1691686800-1691690400@www.jewishglasgow.org
SUMMARY:Maccabi Junior Badminton - Intermediate (10+) - 5pm - 6pm
DESCRIPTION:
URL:https://www.jewishglasgow.org/event/maccabi-junior-badminton-intermediate-10-5pm-6pm/2023-08-10/
LOCATION:Glasgow Maccabi\, May Terrace\, Giffnock\, Glasgow\, g46 6ld\, United Kingdom
CATEGORIES:Regular meetings
GEO:55.8044033;-4.2924659
X-APPLE-STRUCTURED-LOCATION;VALUE=URI;X-ADDRESS=Glasgow Maccabi May Terrace Giffnock Glasgow g46 6ld United Kingdom;X-APPLE-RADIUS=500;X-TITLE=May Terrace\, Giffnock:geo:-4.2924659,55.8044033
END:VEVENT
BEGIN:VEVENT
DTSTART;TZID=Europe/London:20230810T160000
DTEND;TZID=Europe/London:20230810T170000
DTSTAMP:20260422T032034
CREATED:20210913T114137Z
LAST-MODIFIED:20210913T114137Z
UID:10008119-1691683200-1691686800@www.jewishglasgow.org
SUMMARY:Maccabi Junior Badminton - Beginners (7+) - 4pm - 5pm
DESCRIPTION:
URL:https://www.jewishglasgow.org/event/maccabi-junior-badminton-beginners-7-4pm-5pm-2/2023-08-10/
LOCATION:Glasgow Maccabi\, May Terrace\, Giffnock\, Glasgow\, g46 6ld\, United Kingdom
CATEGORIES:Regular meetings
GEO:55.8044033;-4.2924659
X-APPLE-STRUCTURED-LOCATION;VALUE=URI;X-ADDRESS=Glasgow Maccabi May Terrace Giffnock Glasgow g46 6ld United Kingdom;X-APPLE-RADIUS=500;X-TITLE=May Terrace\, Giffnock:geo:-4.2924659,55.8044033
END:VEVENT
BEGIN:VEVENT
DTSTART;TZID=Europe/London:20230810T093000
DTEND;TZID=Europe/London:20230810T113000
DTSTAMP:20260422T032034
CREATED:20220829T203557Z
LAST-MODIFIED:20220829T203557Z
UID:10009889-1691659800-1691667000@www.jewishglasgow.org
SUMMARY:Glasgow Toddlers Group - 9.30am - 11.30am
DESCRIPTION:The Glasgow Toddlers Group \nFor children 0 to 5 years and their grown ups. \nThe cost is £1 per child and refreshments are provided. \nFor more information\, contact laura.mcfarlane@ujia.org.
URL:https://www.jewishglasgow.org/event/glasgow-toddlers-group-9-30am-11-30am/2023-08-10/
LOCATION:Giffnock Newton MearnsSynagogue\, 222 Fenwick Road\, Giffnock\, Glasgow\, G46 6UE\, United Kingdom
CATEGORIES:Regular meetings
GEO:55.7999177;-4.2957932
X-APPLE-STRUCTURED-LOCATION;VALUE=URI;X-ADDRESS=Giffnock Newton MearnsSynagogue 222 Fenwick Road Giffnock Glasgow G46 6UE United Kingdom;X-APPLE-RADIUS=500;X-TITLE=222 Fenwick Road\, Giffnock:geo:-4.2957932,55.7999177
END:VEVENT
BEGIN:VEVENT
DTSTART;TZID=Europe/London:20230809T120000
DTEND;TZID=Europe/London:20230809T150000
DTSTAMP:20260422T032034
CREATED:20210915T113641Z
LAST-MODIFIED:20211212T172113Z
UID:10009000-1691582400-1691593200@www.jewishglasgow.org
SUMMARY:Jewish Care Scotland - Welcome Wednesday - 12 - 3pm
DESCRIPTION:JCS – WELCOME WEDNESDAY DROP-IN FOR ANYONE IN THE COMMUNITY \nRUN BY VOLUNTEERS 
URL:https://www.jewishglasgow.org/event/jewish-care-scotland-welcome-wednesday-1pm-4pm/2023-08-09/
LOCATION:Jewish Care Scotland\, May Terrace\, Giffnock\, Glasgow\, G46 6LD\, United Kingdom
CATEGORIES:Regular meetings
GEO:55.8044033;-4.2924659
X-APPLE-STRUCTURED-LOCATION;VALUE=URI;X-ADDRESS=Jewish Care Scotland May Terrace Giffnock Glasgow G46 6LD United Kingdom;X-APPLE-RADIUS=500;X-TITLE=May Terrace\, Giffnock:geo:-4.2924659,55.8044033
END:VEVENT
BEGIN:VEVENT
DTSTART;VALUE=DATE:20230809
DTEND;VALUE=DATE:20230810
DTSTAMP:20260422T032034
CREATED:20210913T112437Z
LAST-MODIFIED:20210913T112437Z
UID:10007589-1691539200-1691625599@www.jewishglasgow.org
SUMMARY:Maccabi Junior Badminton - Beginners (7+) - 5pm - 6pm
DESCRIPTION:
URL:https://www.jewishglasgow.org/event/maccabi-junior-badminton-beginners-7-5pm-6pm/2023-08-09/
LOCATION:Glasgow Maccabi\, May Terrace\, Giffnock\, Glasgow\, g46 6ld\, United Kingdom
CATEGORIES:Regular meetings
GEO:55.8044033;-4.2924659
X-APPLE-STRUCTURED-LOCATION;VALUE=URI;X-ADDRESS=Glasgow Maccabi May Terrace Giffnock Glasgow g46 6ld United Kingdom;X-APPLE-RADIUS=500;X-TITLE=May Terrace\, Giffnock:geo:-4.2924659,55.8044033
END:VEVENT
BEGIN:VEVENT
DTSTART;VALUE=DATE:20230809
DTEND;VALUE=DATE:20230810
DTSTAMP:20260422T032034
CREATED:20210913T112146Z
LAST-MODIFIED:20210913T112146Z
UID:10007412-1691539200-1691625599@www.jewishglasgow.org
SUMMARY:Maccabi Junior Badminton - Beginners (7+) - 4pm - 5pm
DESCRIPTION:
URL:https://www.jewishglasgow.org/event/maccabi-junior-badminton-beginners-7-4pm-5pm/2023-08-09/
LOCATION:Glasgow Maccabi\, May Terrace\, Giffnock\, Glasgow\, g46 6ld\, United Kingdom
CATEGORIES:Regular meetings
GEO:55.8044033;-4.2924659
X-APPLE-STRUCTURED-LOCATION;VALUE=URI;X-ADDRESS=Glasgow Maccabi May Terrace Giffnock Glasgow g46 6ld United Kingdom;X-APPLE-RADIUS=500;X-TITLE=May Terrace\, Giffnock:geo:-4.2924659,55.8044033
END:VEVENT
END:VCALENDAR